BEGIN:VCALENDAR
VERSION:2.0
PRODID:-//IntegratedWealthSystems.com - ECPv6.15.18//NONSGML v1.0//EN
CALSCALE:GREGORIAN
METHOD:PUBLISH
X-ORIGINAL-URL:https://integratedwealthsystems.com
X-WR-CALDESC:Events for IntegratedWealthSystems.com
REFRESH-INTERVAL;VALUE=DURATION:PT1H
X-Robots-Tag:noindex
X-PUBLISHED-TTL:PT1H
BEGIN:VTIMEZONE
TZID:America/Los_Angeles
BEGIN:DAYLIGHT
TZOFFSETFROM:-0800
TZOFFSETTO:-0700
TZNAME:PDT
DTSTART:20240310T100000
END:DAYLIGHT
BEGIN:STANDARD
TZOFFSETFROM:-0700
TZOFFSETTO:-0800
TZNAME:PST
DTSTART:20241103T090000
END:STANDARD
BEGIN:DAYLIGHT
TZOFFSETFROM:-0800
TZOFFSETTO:-0700
TZNAME:PDT
DTSTART:20250309T100000
END:DAYLIGHT
BEGIN:STANDARD
TZOFFSETFROM:-0700
TZOFFSETTO:-0800
TZNAME:PST
DTSTART:20251102T090000
END:STANDARD
BEGIN:DAYLIGHT
TZOFFSETFROM:-0800
TZOFFSETTO:-0700
TZNAME:PDT
DTSTART:20260308T100000
END:DAYLIGHT
BEGIN:STANDARD
TZOFFSETFROM:-0700
TZOFFSETTO:-0800
TZNAME:PST
DTSTART:20261101T090000
END:STANDARD
END:VTIMEZONE
BEGIN:VEVENT
DTSTART;TZID=America/Los_Angeles:20250505T120000
DTEND;TZID=America/Los_Angeles:20250505T130000
DTSTAMP:20260421T020814
CREATED:20250117T152756Z
LAST-MODIFIED:20251208T202520Z
UID:10072603-1746446400-1746450000@integratedwealthsystems.com
SUMMARY:100K Challenge / VIP Client Laser Call
DESCRIPTION:100K Challenge / VIP Client Laser Call at 12 PM PDT – Login Here
URL:https://integratedwealthsystems.com/event/100k-challenge-vip-client-laser-call/2025-05-05/
ATTACH;FMTTYPE=image/jpeg:https://integratedwealthsystems.com/wp-content/uploads/2019/12/100k-Challenge-1.jpg
END:VEVENT
BEGIN:VEVENT
DTSTART;TZID=America/Los_Angeles:20250505T160000
DTEND;TZID=America/Los_Angeles:20250505T170000
DTSTAMP:20260421T020814
CREATED:20250117T164114Z
LAST-MODIFIED:20251208T203411Z
UID:10072689-1746460800-1746464400@integratedwealthsystems.com
SUMMARY:The Big Table Laser Zoom Call
DESCRIPTION:The Big Table Laser Zoom Call at 4:00 PM PST– Click here to access. 
URL:https://integratedwealthsystems.com/event/the-big-table-laser-zoom-call/2025-05-05/
ATTACH;FMTTYPE=image/png:https://integratedwealthsystems.com/wp-content/uploads/2020/09/1.png
END:VEVENT
BEGIN:VEVENT
DTSTART;TZID=America/Los_Angeles:20250505T160000
DTEND;TZID=America/Los_Angeles:20250505T170000
DTSTAMP:20260421T020814
CREATED:20250117T164420Z
LAST-MODIFIED:20251208T203259Z
UID:10072676-1746460800-1746464400@integratedwealthsystems.com
SUMMARY:The Big Table Laser Zoom Call
DESCRIPTION:The Big Table Laser Zoom Call at 4:00 PM PST– Click here to access. 
URL:https://integratedwealthsystems.com/event/the-big-table-laser-zoom-call-2/2025-05-05/
ATTACH;FMTTYPE=image/png:https://integratedwealthsystems.com/wp-content/uploads/2020/09/1.png
END:VEVENT
BEGIN:VEVENT
DTSTART;TZID=America/Los_Angeles:20250507T143000
DTEND;TZID=America/Los_Angeles:20250507T153000
DTSTAMP:20260421T020814
CREATED:20250117T150712Z
LAST-MODIFIED:20260410T123041Z
UID:10072938-1746628200-1746631800@integratedwealthsystems.com
SUMMARY:Rapid Marketing System Support Call
DESCRIPTION:2:30 pm PST \n\n\n\nVisit http://askrms.com/ and learn how you can access Rapid Marketing System support calls.  \n\n\n\nIf you’d like to speak to someone before investing in access to Rapid Marketing System\, you can schedule a 15-minute\, one-on-one laser call here: https://letsmeet.io/stevelemus/15-minute-laser-call. 
URL:https://integratedwealthsystems.com/event/rapid-marketing-system-support-call/2025-05-07/
ATTACH;FMTTYPE=image/png:https://integratedwealthsystems.com/wp-content/uploads/2023/02/RMS-Support-Call.png
END:VEVENT
BEGIN:VEVENT
DTSTART;TZID=America/Los_Angeles:20250514T143000
DTEND;TZID=America/Los_Angeles:20250514T153000
DTSTAMP:20260421T020814
CREATED:20250117T150712Z
LAST-MODIFIED:20260410T123041Z
UID:10072939-1747233000-1747236600@integratedwealthsystems.com
SUMMARY:Rapid Marketing System Support Call
DESCRIPTION:2:30 pm PST \n\n\n\nVisit http://askrms.com/ and learn how you can access Rapid Marketing System support calls.  \n\n\n\nIf you’d like to speak to someone before investing in access to Rapid Marketing System\, you can schedule a 15-minute\, one-on-one laser call here: https://letsmeet.io/stevelemus/15-minute-laser-call. 
URL:https://integratedwealthsystems.com/event/rapid-marketing-system-support-call/2025-05-14/
ATTACH;FMTTYPE=image/png:https://integratedwealthsystems.com/wp-content/uploads/2023/02/RMS-Support-Call.png
END:VEVENT
BEGIN:VEVENT
DTSTART;TZID=America/Los_Angeles:20250521T143000
DTEND;TZID=America/Los_Angeles:20250521T153000
DTSTAMP:20260421T020814
CREATED:20250117T150712Z
LAST-MODIFIED:20260410T123041Z
UID:10072940-1747837800-1747841400@integratedwealthsystems.com
SUMMARY:Rapid Marketing System Support Call
DESCRIPTION:2:30 pm PST \n\n\n\nVisit http://askrms.com/ and learn how you can access Rapid Marketing System support calls.  \n\n\n\nIf you’d like to speak to someone before investing in access to Rapid Marketing System\, you can schedule a 15-minute\, one-on-one laser call here: https://letsmeet.io/stevelemus/15-minute-laser-call. 
URL:https://integratedwealthsystems.com/event/rapid-marketing-system-support-call/2025-05-21/
ATTACH;FMTTYPE=image/png:https://integratedwealthsystems.com/wp-content/uploads/2023/02/RMS-Support-Call.png
END:VEVENT
BEGIN:VEVENT
DTSTART;TZID=America/Los_Angeles:20250522T100000
DTEND;TZID=America/Los_Angeles:20250522T180000
DTSTAMP:20260421T020814
CREATED:20250117T160152Z
LAST-MODIFIED:20251114T150244Z
UID:10072572-1747908000-1747936800@integratedwealthsystems.com
SUMMARY:The Millionaire Intensive
DESCRIPTION:Askloral.com/event
URL:https://integratedwealthsystems.com/event/the-millionaire-intensive/2025-05-22/
ATTACH;FMTTYPE=image/png:https://integratedwealthsystems.com/wp-content/uploads/2024/11/mitnew.png
END:VEVENT
BEGIN:VEVENT
DTSTART;TZID=America/Los_Angeles:20250528T143000
DTEND;TZID=America/Los_Angeles:20250528T153000
DTSTAMP:20260421T020814
CREATED:20250117T150712Z
LAST-MODIFIED:20260410T123041Z
UID:10072941-1748442600-1748446200@integratedwealthsystems.com
SUMMARY:Rapid Marketing System Support Call
DESCRIPTION:2:30 pm PST \n\n\n\nVisit http://askrms.com/ and learn how you can access Rapid Marketing System support calls.  \n\n\n\nIf you’d like to speak to someone before investing in access to Rapid Marketing System\, you can schedule a 15-minute\, one-on-one laser call here: https://letsmeet.io/stevelemus/15-minute-laser-call. 
URL:https://integratedwealthsystems.com/event/rapid-marketing-system-support-call/2025-05-28/
ATTACH;FMTTYPE=image/png:https://integratedwealthsystems.com/wp-content/uploads/2023/02/RMS-Support-Call.png
END:VEVENT
END:VCALENDAR