BEGIN:VCALENDAR
VERSION:2.0
PRODID:-//IntegratedWealthSystems.com - ECPv6.15.18//NONSGML v1.0//EN
CALSCALE:GREGORIAN
METHOD:PUBLISH
X-WR-CALNAME:IntegratedWealthSystems.com
X-ORIGINAL-URL:https://integratedwealthsystems.com
X-WR-CALDESC:Events for IntegratedWealthSystems.com
REFRESH-INTERVAL;VALUE=DURATION:PT1H
X-Robots-Tag:noindex
X-PUBLISHED-TTL:PT1H
BEGIN:VTIMEZONE
TZID:America/Los_Angeles
BEGIN:DAYLIGHT
TZOFFSETFROM:-0800
TZOFFSETTO:-0700
TZNAME:PDT
DTSTART:20240310T100000
END:DAYLIGHT
BEGIN:STANDARD
TZOFFSETFROM:-0700
TZOFFSETTO:-0800
TZNAME:PST
DTSTART:20241103T090000
END:STANDARD
BEGIN:DAYLIGHT
TZOFFSETFROM:-0800
TZOFFSETTO:-0700
TZNAME:PDT
DTSTART:20250309T100000
END:DAYLIGHT
BEGIN:STANDARD
TZOFFSETFROM:-0700
TZOFFSETTO:-0800
TZNAME:PST
DTSTART:20251102T090000
END:STANDARD
BEGIN:DAYLIGHT
TZOFFSETFROM:-0800
TZOFFSETTO:-0700
TZNAME:PDT
DTSTART:20260308T100000
END:DAYLIGHT
BEGIN:STANDARD
TZOFFSETFROM:-0700
TZOFFSETTO:-0800
TZNAME:PST
DTSTART:20261101T090000
END:STANDARD
END:VTIMEZONE
BEGIN:VEVENT
DTSTART;TZID=America/Los_Angeles:20250203T120000
DTEND;TZID=America/Los_Angeles:20250203T130000
DTSTAMP:20260421T065625
CREATED:20250117T152756Z
LAST-MODIFIED:20251208T202520Z
UID:10072600-1738584000-1738587600@integratedwealthsystems.com
SUMMARY:100K Challenge / VIP Client Laser Call
DESCRIPTION:100K Challenge / VIP Client Laser Call at 12 PM PDT – Login Here
URL:https://integratedwealthsystems.com/event/100k-challenge-vip-client-laser-call/2025-02-03/
ATTACH;FMTTYPE=image/jpeg:https://integratedwealthsystems.com/wp-content/uploads/2019/12/100k-Challenge-1.jpg
END:VEVENT
BEGIN:VEVENT
DTSTART;TZID=America/Los_Angeles:20250203T160000
DTEND;TZID=America/Los_Angeles:20250203T170000
DTSTAMP:20260421T065625
CREATED:20250117T164114Z
LAST-MODIFIED:20251208T203411Z
UID:10072686-1738598400-1738602000@integratedwealthsystems.com
SUMMARY:The Big Table Laser Zoom Call
DESCRIPTION:The Big Table Laser Zoom Call at 4:00 PM PST– Click here to access. 
URL:https://integratedwealthsystems.com/event/the-big-table-laser-zoom-call/2025-02-03/
ATTACH;FMTTYPE=image/png:https://integratedwealthsystems.com/wp-content/uploads/2020/09/1.png
END:VEVENT
BEGIN:VEVENT
DTSTART;TZID=America/Los_Angeles:20250203T160000
DTEND;TZID=America/Los_Angeles:20250203T170000
DTSTAMP:20260421T065625
CREATED:20250117T164420Z
LAST-MODIFIED:20251208T203259Z
UID:10072673-1738598400-1738602000@integratedwealthsystems.com
SUMMARY:The Big Table Laser Zoom Call
DESCRIPTION:The Big Table Laser Zoom Call at 4:00 PM PST– Click here to access. 
URL:https://integratedwealthsystems.com/event/the-big-table-laser-zoom-call-2/2025-02-03/
ATTACH;FMTTYPE=image/png:https://integratedwealthsystems.com/wp-content/uploads/2020/09/1.png
END:VEVENT
BEGIN:VEVENT
DTSTART;TZID=America/Los_Angeles:20250205T143000
DTEND;TZID=America/Los_Angeles:20250205T153000
DTSTAMP:20260421T065625
CREATED:20250117T150712Z
LAST-MODIFIED:20260410T123041Z
UID:10072925-1738765800-1738769400@integratedwealthsystems.com
SUMMARY:Rapid Marketing System Support Call
DESCRIPTION:2:30 pm PST \n\n\n\nVisit http://askrms.com/ and learn how you can access Rapid Marketing System support calls.  \n\n\n\nIf you’d like to speak to someone before investing in access to Rapid Marketing System\, you can schedule a 15-minute\, one-on-one laser call here: https://letsmeet.io/stevelemus/15-minute-laser-call. 
URL:https://integratedwealthsystems.com/event/rapid-marketing-system-support-call/2025-02-05/
ATTACH;FMTTYPE=image/png:https://integratedwealthsystems.com/wp-content/uploads/2023/02/RMS-Support-Call.png
END:VEVENT
BEGIN:VEVENT
DTSTART;TZID=America/Los_Angeles:20250212T143000
DTEND;TZID=America/Los_Angeles:20250212T153000
DTSTAMP:20260421T065625
CREATED:20250117T150712Z
LAST-MODIFIED:20260410T123041Z
UID:10072926-1739370600-1739374200@integratedwealthsystems.com
SUMMARY:Rapid Marketing System Support Call
DESCRIPTION:2:30 pm PST \n\n\n\nVisit http://askrms.com/ and learn how you can access Rapid Marketing System support calls.  \n\n\n\nIf you’d like to speak to someone before investing in access to Rapid Marketing System\, you can schedule a 15-minute\, one-on-one laser call here: https://letsmeet.io/stevelemus/15-minute-laser-call. 
URL:https://integratedwealthsystems.com/event/rapid-marketing-system-support-call/2025-02-12/
ATTACH;FMTTYPE=image/png:https://integratedwealthsystems.com/wp-content/uploads/2023/02/RMS-Support-Call.png
END:VEVENT
BEGIN:VEVENT
DTSTART;TZID=America/Los_Angeles:20250213T100000
DTEND;TZID=America/Los_Angeles:20250213T180000
DTSTAMP:20260421T065625
CREATED:20250117T160152Z
LAST-MODIFIED:20251114T150244Z
UID:10072280-1739440800-1739469600@integratedwealthsystems.com
SUMMARY:The Millionaire Intensive
DESCRIPTION:Askloral.com/event
URL:https://integratedwealthsystems.com/event/the-millionaire-intensive/2025-02-13/
ATTACH;FMTTYPE=image/png:https://integratedwealthsystems.com/wp-content/uploads/2024/11/mitnew.png
END:VEVENT
BEGIN:VEVENT
DTSTART;TZID=America/Los_Angeles:20250219T143000
DTEND;TZID=America/Los_Angeles:20250219T153000
DTSTAMP:20260421T065625
CREATED:20250117T150712Z
LAST-MODIFIED:20260410T123041Z
UID:10072927-1739975400-1739979000@integratedwealthsystems.com
SUMMARY:Rapid Marketing System Support Call
DESCRIPTION:2:30 pm PST \n\n\n\nVisit http://askrms.com/ and learn how you can access Rapid Marketing System support calls.  \n\n\n\nIf you’d like to speak to someone before investing in access to Rapid Marketing System\, you can schedule a 15-minute\, one-on-one laser call here: https://letsmeet.io/stevelemus/15-minute-laser-call. 
URL:https://integratedwealthsystems.com/event/rapid-marketing-system-support-call/2025-02-19/
ATTACH;FMTTYPE=image/png:https://integratedwealthsystems.com/wp-content/uploads/2023/02/RMS-Support-Call.png
END:VEVENT
BEGIN:VEVENT
DTSTART;TZID=America/Los_Angeles:20250226T143000
DTEND;TZID=America/Los_Angeles:20250226T153000
DTSTAMP:20260421T065625
CREATED:20250117T150712Z
LAST-MODIFIED:20260410T123041Z
UID:10072928-1740580200-1740583800@integratedwealthsystems.com
SUMMARY:Rapid Marketing System Support Call
DESCRIPTION:2:30 pm PST \n\n\n\nVisit http://askrms.com/ and learn how you can access Rapid Marketing System support calls.  \n\n\n\nIf you’d like to speak to someone before investing in access to Rapid Marketing System\, you can schedule a 15-minute\, one-on-one laser call here: https://letsmeet.io/stevelemus/15-minute-laser-call. 
URL:https://integratedwealthsystems.com/event/rapid-marketing-system-support-call/2025-02-26/
ATTACH;FMTTYPE=image/png:https://integratedwealthsystems.com/wp-content/uploads/2023/02/RMS-Support-Call.png
END:VEVENT
END:VCALENDAR